BEGIN:VCALENDAR
VERSION:2.0
PRODID:-//Putney Ski Club - ECPv6.15.20//NONSGML v1.0//EN
CALSCALE:GREGORIAN
METHOD:PUBLISH
X-WR-CALNAME:Putney Ski Club
X-ORIGINAL-URL:http://putneyskiclub.org
X-WR-CALDESC:Events for Putney Ski Club
REFRESH-INTERVAL;VALUE=DURATION:PT1H
X-Robots-Tag:noindex
X-PUBLISHED-TTL:PT1H
BEGIN:VTIMEZONE
TZID:UTC
BEGIN:STANDARD
TZOFFSETFROM:+0000
TZOFFSETTO:+0000
TZNAME:UTC
DTSTART:20240101T000000
END:STANDARD
END:VTIMEZONE
BEGIN:VEVENT
DTSTART;VALUE=DATE:20250112
DTEND;VALUE=DATE:20250113
DTSTAMP:20260422T160654
CREATED:20241103T010546Z
LAST-MODIFIED:20250109T003900Z
UID:1239-1736640000-1736726399@putneyskiclub.org
SUMMARY:SOVT Race - Prospect Race #1 (classic)
DESCRIPTION:Starting at 1 pm with the lollipop race.
URL:http://putneyskiclub.org/event/prospect-race-1-freestyle
LOCATION:Prospect Mountain Ski Area\, 204 Prospect Access Rd\, Woodford\, VT\, 05346\, United States
CATEGORIES:NENSA BKL Race,SOVT Race
END:VEVENT
END:VCALENDAR