BEGIN:VCALENDAR
VERSION:2.0
PRODID:-//Putney Ski Club - ECPv6.15.20//NONSGML v1.0//EN
CALSCALE:GREGORIAN
METHOD:PUBLISH
X-WR-CALNAME:Putney Ski Club
X-ORIGINAL-URL:http://putneyskiclub.org
X-WR-CALDESC:Events for Putney Ski Club
REFRESH-INTERVAL;VALUE=DURATION:PT1H
X-Robots-Tag:noindex
X-PUBLISHED-TTL:PT1H
BEGIN:VTIMEZONE
TZID:UTC
BEGIN:STANDARD
TZOFFSETFROM:+0000
TZOFFSETTO:+0000
TZNAME:UTC
DTSTART:20240101T000000
END:STANDARD
END:VTIMEZONE
BEGIN:VEVENT
DTSTART;VALUE=DATE:20250126
DTEND;VALUE=DATE:20250127
DTSTAMP:20260422T160653
CREATED:20241103T010025Z
LAST-MODIFIED:20250105T150615Z
UID:1233-1737849600-1737935999@putneyskiclub.org
SUMMARY:SOVT Race - Stratton Terrain Challenge (freestyle)
DESCRIPTION:SCHEDULE:\nLollipop 10:00 AM\nBKL Grades 1/2 10:10 AM\nBKL Grades 3/4 10:25 AM\nBKL Grades 5/6 10:40 AM\nBKL Grades 7/8 10:41 AM\nTerrain Challenge 6 K\, Open Men/Women 11:15
URL:http://putneyskiclub.org/event/stratton-terrain-challenge-3
LOCATION:Stratton Nordic Center\, 41 Sun Bowl Road\, Stratton\, VT\, 05360\, United States
CATEGORIES:NENSA BKL Race,SOVT Race
END:VEVENT
BEGIN:VEVENT
DTSTART;VALUE=DATE:20250126
DTEND;VALUE=DATE:20250127
DTSTAMP:20260422T160653
CREATED:20241103T014023Z
LAST-MODIFIED:20241103T014629Z
UID:1258-1737849600-1737935999@putneyskiclub.org
SUMMARY:NENSA Women's XC Ski Day
DESCRIPTION:In Woodstock\, VT.
URL:http://putneyskiclub.org/event/nensa-womens-xc-ski-day
END:VEVENT
END:VCALENDAR