BEGIN:VCALENDAR
VERSION:2.0
PRODID:-//Putney Ski Club - ECPv6.15.20//NONSGML v1.0//EN
CALSCALE:GREGORIAN
METHOD:PUBLISH
X-WR-CALNAME:Putney Ski Club
X-ORIGINAL-URL:http://putneyskiclub.org
X-WR-CALDESC:Events for Putney Ski Club
REFRESH-INTERVAL;VALUE=DURATION:PT1H
X-Robots-Tag:noindex
X-PUBLISHED-TTL:PT1H
BEGIN:VTIMEZONE
TZID:UTC
BEGIN:STANDARD
TZOFFSETFROM:+0000
TZOFFSETTO:+0000
TZNAME:UTC
DTSTART:20230101T000000
END:STANDARD
END:VTIMEZONE
BEGIN:VTIMEZONE
TZID:America/New_York
BEGIN:DAYLIGHT
TZOFFSETFROM:-0500
TZOFFSETTO:-0400
TZNAME:EDT
DTSTART:20230312T070000
END:DAYLIGHT
BEGIN:STANDARD
TZOFFSETFROM:-0400
TZOFFSETTO:-0500
TZNAME:EST
DTSTART:20231105T060000
END:STANDARD
BEGIN:DAYLIGHT
TZOFFSETFROM:-0500
TZOFFSETTO:-0400
TZNAME:EDT
DTSTART:20240310T070000
END:DAYLIGHT
BEGIN:STANDARD
TZOFFSETFROM:-0400
TZOFFSETTO:-0500
TZNAME:EST
DTSTART:20241103T060000
END:STANDARD
BEGIN:DAYLIGHT
TZOFFSETFROM:-0500
TZOFFSETTO:-0400
TZNAME:EDT
DTSTART:20250309T070000
END:DAYLIGHT
BEGIN:STANDARD
TZOFFSETFROM:-0400
TZOFFSETTO:-0500
TZNAME:EST
DTSTART:20251102T060000
END:STANDARD
END:VTIMEZONE
BEGIN:VEVENT
DTSTART;VALUE=DATE:20250208
DTEND;VALUE=DATE:20250209
DTSTAMP:20260423T115039
CREATED:20241124T024147Z
LAST-MODIFIED:20250128T050747Z
UID:1278-1738972800-1739059199@putneyskiclub.org
SUMMARY:SOVT Race – Putney and Prospect BKL Sprints!
DESCRIPTION:
URL:http://putneyskiclub.org/event/putney-prospect-sprints
LOCATION:Prospect Mountain Ski Area\, 204 Prospect Access Rd\, Woodford\, VT\, 05346\, United States
END:VEVENT
BEGIN:VEVENT
DTSTART;VALUE=DATE:20250208
DTEND;VALUE=DATE:20250209
DTSTAMP:20260423T115039
CREATED:20241103T012711Z
LAST-MODIFIED:20250105T145619Z
UID:1248-1738972800-1739059199@putneyskiclub.org
SUMMARY:Woodstock Sweetheart Race
DESCRIPTION:Woodstock\, VT \nSCHEDULE\nSnowflakes Grade K 1:00 PM<.5 km\nSnowflakes Grade 1/2 1:15 PM\nGrade 3/4 1:30 PM\nGrade 5/6 1:55 PM\nGrade 7/8 2:30 PM\nCommunity Race 2:30 PM
URL:http://putneyskiclub.org/event/woodstock-sweetheart-race
CATEGORIES:NENSA BKL Race
END:VEVENT
BEGIN:VEVENT
DTSTART;VALUE=DATE:20250202
DTEND;VALUE=DATE:20250203
DTSTAMP:20260423T115039
CREATED:20241103T005508Z
LAST-MODIFIED:20250105T144245Z
UID:1231-1738454400-1738540799@putneyskiclub.org
SUMMARY:SOVT Race - Wild Wings Classic
DESCRIPTION:SCHEDULE:\nRegistration Opens – 8:30am\nLollipop — 9:30am\nGrades 1/2 — 9:40\nGrades 3/4 — 10am\nGrades 5/6 — 10:20am\nGrades 7/8 — 10:20am\nAwards Ceremony — 11am
URL:http://putneyskiclub.org/event/wild-wings-classic-2
LOCATION:Wild Wings\, 246 Styles Ln\, Peru\, VT\, 05152\, United States
CATEGORIES:NENSA BKL Race,SOVT Race
END:VEVENT
BEGIN:VEVENT
DTSTART;VALUE=DATE:20250201
DTEND;VALUE=DATE:20250202
DTSTAMP:20260423T115039
CREATED:20241103T013125Z
LAST-MODIFIED:20250126T033753Z
UID:1254-1738368000-1738454399@putneyskiclub.org
SUMMARY:Silver Fox Trot
DESCRIPTION:
URL:http://putneyskiclub.org/event/silver-fox-trot-4
LOCATION:Dartmouth XC Ski Center at Oak Hill\, 59 Oak Hill Dr\, Hanover\, NH 03755
CATEGORIES:NENSA BKL Race
END:VEVENT
BEGIN:VEVENT
DTSTART;VALUE=DATE:20250126
DTEND;VALUE=DATE:20250127
DTSTAMP:20260423T115039
CREATED:20241103T014023Z
LAST-MODIFIED:20241103T014629Z
UID:1258-1737849600-1737935999@putneyskiclub.org
SUMMARY:NENSA Women's XC Ski Day
DESCRIPTION:In Woodstock\, VT.
URL:http://putneyskiclub.org/event/nensa-womens-xc-ski-day
END:VEVENT
BEGIN:VEVENT
DTSTART;VALUE=DATE:20250126
DTEND;VALUE=DATE:20250127
DTSTAMP:20260423T115039
CREATED:20241103T010025Z
LAST-MODIFIED:20250105T150615Z
UID:1233-1737849600-1737935999@putneyskiclub.org
SUMMARY:SOVT Race - Stratton Terrain Challenge (freestyle)
DESCRIPTION:SCHEDULE:\nLollipop 10:00 AM\nBKL Grades 1/2 10:10 AM\nBKL Grades 3/4 10:25 AM\nBKL Grades 5/6 10:40 AM\nBKL Grades 7/8 10:41 AM\nTerrain Challenge 6 K\, Open Men/Women 11:15
URL:http://putneyskiclub.org/event/stratton-terrain-challenge-3
LOCATION:Stratton Nordic Center\, 41 Sun Bowl Road\, Stratton\, VT\, 05360\, United States
CATEGORIES:NENSA BKL Race,SOVT Race
END:VEVENT
BEGIN:VEVENT
DTSTART;VALUE=DATE:20250112
DTEND;VALUE=DATE:20250113
DTSTAMP:20260423T115039
CREATED:20241103T010546Z
LAST-MODIFIED:20250109T003900Z
UID:1239-1736640000-1736726399@putneyskiclub.org
SUMMARY:SOVT Race - Prospect Race #1 (classic)
DESCRIPTION:Starting at 1 pm with the lollipop race.
URL:http://putneyskiclub.org/event/prospect-race-1-freestyle
LOCATION:Prospect Mountain Ski Area\, 204 Prospect Access Rd\, Woodford\, VT\, 05346\, United States
CATEGORIES:NENSA BKL Race,SOVT Race
END:VEVENT
BEGIN:VEVENT
DTSTART;VALUE=DATE:20250104
DTEND;VALUE=DATE:20250105
DTSTAMP:20260423T115039
CREATED:20241103T012946Z
LAST-MODIFIED:20241103T015350Z
UID:1251-1735948800-1736035199@putneyskiclub.org
SUMMARY:Bogburn Classic
DESCRIPTION:
URL:http://putneyskiclub.org/event/bogburn-classic-3
LOCATION:Rikert Nordic Center\, 106 College Cross Rd\, Ripton\, VT\, 05766\, United States
CATEGORIES:NENSA BKL Race
END:VEVENT
BEGIN:VEVENT
DTSTART;TZID=UTC:20241211T153000
DTEND;TZID=UTC:20241211T170000
DTSTAMP:20260423T115039
CREATED:20240924T005649Z
LAST-MODIFIED:20240924T005649Z
UID:1219-1733931000-1733936400@putneyskiclub.org
SUMMARY:First day of practice
DESCRIPTION:We’ll be out on the trails on skis or in sneakers/hiking boots\, depending on the weather!
URL:http://putneyskiclub.org/event/first-day-of-practice
END:VEVENT
BEGIN:VEVENT
DTSTART;VALUE=DATE:20241208
DTEND;VALUE=DATE:20241209
DTSTAMP:20260423T115039
CREATED:20241103T013758Z
LAST-MODIFIED:20241103T015450Z
UID:1256-1733616000-1733702399@putneyskiclub.org
SUMMARY:Kendall Memorial Classic
DESCRIPTION:
URL:http://putneyskiclub.org/event/kendall-memorial-classic
LOCATION:Craftsbury Outdoor Center\, http://www.craftsbury.com\, 535 Lost Nation Rd\, VT\, 05827\, United States
CATEGORIES:Popular race
END:VEVENT
BEGIN:VEVENT
DTSTART;TZID=UTC:20241120T160000
DTEND;TZID=UTC:20241120T180000
DTSTAMP:20260423T115039
CREATED:20240922T132703Z
LAST-MODIFIED:20240922T132703Z
UID:1163-1732118400-1732125600@putneyskiclub.org
SUMMARY:Putney BKL Registration/Ski rental night
DESCRIPTION:Come to West Hill Shop to sign up for the season and get your rental skis.
URL:http://putneyskiclub.org/event/putney-bkl-registration-ski-rental-night
LOCATION:West Hill Shop\, 49 Brickyard Ln\, Putney\, VT\, 05346\, United States
END:VEVENT
BEGIN:VEVENT
DTSTART;TZID=UTC:20241116T100000
DTEND;TZID=UTC:20241116T113000
DTSTAMP:20260423T115039
CREATED:20240922T134139Z
LAST-MODIFIED:20241101T035602Z
UID:1169-1731751200-1731756600@putneyskiclub.org
SUMMARY:Ski and Skate Sale
DESCRIPTION:Every Fall\, the ski club holds a sale for used ski and snow-sports equipment. More details here: http://putneyskiclub.org/skiskatesale
URL:http://putneyskiclub.org/event/ski-and-skate-sale
LOCATION:West Hill Shop\, 49 Brickyard Ln\, Putney\, VT\, 05346\, United States
END:VEVENT
BEGIN:VEVENT
DTSTART;VALUE=DATE:20241110
DTEND;VALUE=DATE:20241111
DTSTAMP:20260423T115039
CREATED:20240919T040834Z
LAST-MODIFIED:20240919T040842Z
UID:1124-1731196800-1731283199@putneyskiclub.org
SUMMARY:BKL Parent leaders and Coaches Education
DESCRIPTION:Great opportunity to learn more about the BKL philosophy and get some great coaching ideas!
URL:http://putneyskiclub.org/event/bkl-parent-leaders-and-coaches-education
LOCATION:Holderness School\, 33 Chapel Lane\, Holderness\, NH\, 03245\, United States
END:VEVENT
BEGIN:VEVENT
DTSTART;TZID=UTC:20241103T080000
DTEND;TZID=UTC:20241103T170000
DTSTAMP:20260423T115039
CREATED:20240919T034035Z
LAST-MODIFIED:20240919T035458Z
UID:1111-1730620800-1730653200@putneyskiclub.org
SUMMARY:West Hill Shop Cyclocross Race
DESCRIPTION:Cyclocross Race at WEST HILL SHOP!!!
URL:http://putneyskiclub.org/event/west-hill-shop-cyclocross-race
LOCATION:West Hill Shop\, 49 Brickyard Ln\, Putney\, VT\, 05346\, United States
ATTACH;FMTTYPE=image/jpeg:http://putneyskiclub.org/wp-content/uploads/2022/10/WHSSquarePlain139.jpeg
END:VEVENT
BEGIN:VEVENT
DTSTART;TZID=UTC:20241102T083000
DTEND;TZID=UTC:20241102T120000
DTSTAMP:20260423T115039
CREATED:20240919T035141Z
LAST-MODIFIED:20240922T142557Z
UID:1121-1730536200-1730548800@putneyskiclub.org
SUMMARY:SMS T2 Bounding practice
DESCRIPTION:Open bounding practice with the SMS T2 team. SMS T2 is a professional XC ski team based in Stratton\, VT.
URL:http://putneyskiclub.org/event/sms-t2-bounding-practice-3
LOCATION:Stratton Mountain\, 5 Village Lodge Rd\, Stratton Mountain\, VT\, 05155\, United States
ATTACH;FMTTYPE=image/jpeg:http://putneyskiclub.org/wp-content/uploads/2024/09/IMG_8697-_1_.jpeg
END:VEVENT
BEGIN:VEVENT
DTSTART;TZID=UTC:20241020T080000
DTEND;TZID=UTC:20241020T170000
DTSTAMP:20260423T115039
CREATED:20240919T033013Z
LAST-MODIFIED:20240919T033013Z
UID:1102-1729411200-1729443600@putneyskiclub.org
SUMMARY:Keene Pumpkin Cross
DESCRIPTION:Cyclocross race in Keene
URL:http://putneyskiclub.org/event/keene-pumpkin-cross
LOCATION:Surry Mountain Lake\, Park Dr\, Surry\, NH\, 03431\, United States
ATTACH;FMTTYPE=image/png:http://putneyskiclub.org/wp-content/uploads/2024/09/640be0fa-f7c2-442b-9c7c-cadda11be8e1.png
END:VEVENT
BEGIN:VEVENT
DTSTART;TZID=America/New_York:20241006T080000
DTEND;TZID=America/New_York:20241006T170000
DTSTAMP:20260423T115039
CREATED:20240919T032426Z
LAST-MODIFIED:20240919T032426Z
UID:1100-1728201600-1728234000@putneyskiclub.org
SUMMARY:The Red Leaf Ramble
DESCRIPTION:5k xc running race
URL:http://putneyskiclub.org/event/the-red-leaf-ramble-2
LOCATION:The Putney School\, 418 Houghton Brook Rd\, Putney\, VT\, 05346\, United States
ATTACH;FMTTYPE=image/png:http://putneyskiclub.org/wp-content/uploads/2022/10/DALL·E-2022-10-05-01.14.53-red-maple-tree-running-a-5k-cartoon.png
END:VEVENT
BEGIN:VEVENT
DTSTART;TZID=UTC:20241005T083000
DTEND;TZID=UTC:20241005T120000
DTSTAMP:20260423T115039
CREATED:20240919T035035Z
LAST-MODIFIED:20240919T035329Z
UID:1119-1728117000-1728129600@putneyskiclub.org
SUMMARY:SMS T2 Bounding Practice
DESCRIPTION:Open Bounding practice with SMS T2
URL:http://putneyskiclub.org/event/sms-t2-bounding-practice-2
LOCATION:Stratton Mountain\, 5 Village Lodge Rd\, Stratton Mountain\, VT\, 05155\, United States
ATTACH;FMTTYPE=image/jpeg:http://putneyskiclub.org/wp-content/uploads/2024/09/IMG_8697-_1_.jpeg
END:VEVENT
BEGIN:VEVENT
DTSTART;VALUE=DATE:20240928
DTEND;VALUE=DATE:20240930
DTSTAMP:20260423T115039
CREATED:20240919T031527Z
LAST-MODIFIED:20240919T033213Z
UID:1097-1727481600-1727654399@putneyskiclub.org
SUMMARY:Kilowatt Cross
DESCRIPTION:
URL:http://putneyskiclub.org/event/kilowatt-cross
LOCATION:Northfield Mountain\, 99 Millers Falls Rd\, Northfield\, MA\, 01360\, United States
ATTACH;FMTTYPE=image/jpeg:http://putneyskiclub.org/wp-content/uploads/2024/09/ac25bdca-8ea2-407c-afbd-5ccc9e066b6d.jpg
END:VEVENT
BEGIN:VEVENT
DTSTART;TZID=UTC:20240921T083000
DTEND;TZID=UTC:20240921T120000
DTSTAMP:20260423T115039
CREATED:20240919T034911Z
LAST-MODIFIED:20240919T035526Z
UID:1116-1726907400-1726920000@putneyskiclub.org
SUMMARY:SMS T2 Bounding Practice
DESCRIPTION:Bounding practice with the SMS T2 Team at Stratton!
URL:http://putneyskiclub.org/event/sms-t2-bounding-practice
LOCATION:Stratton Mountain\, 5 Village Lodge Rd\, Stratton Mountain\, VT\, 05155\, United States
ATTACH;FMTTYPE=image/jpeg:http://putneyskiclub.org/wp-content/uploads/2024/09/IMG_8697-_1_.jpeg
END:VEVENT
BEGIN:VEVENT
DTSTART;VALUE=DATE:20240302
DTEND;VALUE=DATE:20240304
DTSTAMP:20260423T115039
CREATED:20231108T010030Z
LAST-MODIFIED:20240117T015715Z
UID:988-1709337600-1709510399@putneyskiclub.org
SUMMARY:BKL Festival\, Rikert Nordic Center
DESCRIPTION:
URL:http://putneyskiclub.org/event/bkl-festival-rikert-nordic-center
LOCATION:Rikert Nordic Center\, 106 College Cross Rd\, Ripton\, VT\, 05766\, United States
ATTACH;FMTTYPE=image/jpeg:http://putneyskiclub.org/wp-content/uploads/2023/11/DCDB7797-3549-4AAE-A6A5-7F0D403998F8_1_105_c.jpeg
END:VEVENT
BEGIN:VEVENT
DTSTART;VALUE=DATE:20240224
DTEND;VALUE=DATE:20240225
DTSTAMP:20260423T115039
CREATED:20231201T035516Z
LAST-MODIFIED:20231201T035516Z
UID:1018-1708732800-1708819199@putneyskiclub.org
SUMMARY:Prospect Classic Race to honor Nancy Steffen
DESCRIPTION:
URL:http://putneyskiclub.org/event/prospect-classic-race-to-honor-nancy-steffen
LOCATION:Prospect Mountain Ski Area\, 204 Prospect Access Rd\, Woodford\, VT\, 05346\, United States
END:VEVENT
BEGIN:VEVENT
DTSTART;VALUE=DATE:20240211
DTEND;VALUE=DATE:20240212
DTSTAMP:20260423T115039
CREATED:20240117T013020Z
LAST-MODIFIED:20240117T013020Z
UID:1086-1707609600-1707695999@putneyskiclub.org
SUMMARY:Dublin Winterfest
DESCRIPTION:
URL:http://putneyskiclub.org/event/dublin-winterfest
LOCATION:Dublin School Trails\, 18 Lehmann Way\, Dublin\, NH\, 03444\, United States
END:VEVENT
BEGIN:VEVENT
DTSTART;VALUE=DATE:20240211
DTEND;VALUE=DATE:20240212
DTSTAMP:20260423T115039
CREATED:20240117T012812Z
LAST-MODIFIED:20240117T012812Z
UID:1083-1707609600-1707695999@putneyskiclub.org
SUMMARY:Woodstock Nordic BKL Sweetheart Race
DESCRIPTION:
URL:http://putneyskiclub.org/event/woodstock-nordic-bkl-sweetheart-race
LOCATION:Knox Meadow\, 1489 South Road\, Woodstock\, Vermont\, 05091
END:VEVENT
BEGIN:VEVENT
DTSTART;VALUE=DATE:20240210
DTEND;VALUE=DATE:20240211
DTSTAMP:20260423T115039
CREATED:20231204T031524Z
LAST-MODIFIED:20231204T031524Z
UID:1029-1707523200-1707609599@putneyskiclub.org
SUMMARY:back up date for Wild Wings Classic
DESCRIPTION:
URL:http://putneyskiclub.org/event/back-up-date-for-wild-wings-classic
LOCATION:Wild Wings\, 246 Styles Ln\, Peru\, VT\, 05152\, United States
END:VEVENT
BEGIN:VEVENT
DTSTART;VALUE=DATE:20240204
DTEND;VALUE=DATE:20240205
DTSTAMP:20260423T115039
CREATED:20231201T035143Z
LAST-MODIFIED:20240117T012342Z
UID:1013-1707004800-1707091199@putneyskiclub.org
SUMMARY:Wild Wings Classic
DESCRIPTION:9:30 am – 12:00 pm
URL:http://putneyskiclub.org/event/wild-wings-classic
LOCATION:Wild Wings\, 246 Styles Ln\, Peru\, VT\, 05152\, United States
END:VEVENT
BEGIN:VEVENT
DTSTART;VALUE=DATE:20240203
DTEND;VALUE=DATE:20240204
DTSTAMP:20260423T115039
CREATED:20231201T040117Z
LAST-MODIFIED:20240117T012136Z
UID:1024-1706918400-1707004799@putneyskiclub.org
SUMMARY:Silver Fox Trot
DESCRIPTION:
URL:http://putneyskiclub.org/event/silver-fox-trot-3
LOCATION:Dartmouth XC Ski Center at Oak Hill\, 59 Oak Hill Dr\, Hanover\, NH 03755
CATEGORIES:NENSA BKL Race
END:VEVENT
BEGIN:VEVENT
DTSTART;VALUE=DATE:20240128
DTEND;VALUE=DATE:20240129
DTSTAMP:20260423T115039
CREATED:20231201T034931Z
LAST-MODIFIED:20240124T022828Z
UID:1011-1706400000-1706486399@putneyskiclub.org
SUMMARY:Prospect Sprints BKL Race
DESCRIPTION:Technique: Freestyle (skate or classic) \nMass Start; Boys and Girls Combined by grade grouping. \nTiming of events: \n\n2:00 pm – Lollipoppers (Partial Parade Loop)\n2:15 pm – 1/2s (1 Full lap to finish\, 1k)\n2:30 pm – 3/4s (2.22k\, 2 laps)\n2:50 pm  – 5/6s (3.2k\, 3 laps)\n3:20 pm – 7/8s (4.2k\, 4 full laps)\n\n* Awards & participation ribbons following! \nYou can register here.
URL:http://putneyskiclub.org/event/prospect-sprints-2
LOCATION:Prospect Mountain Ski Area\, 204 Prospect Access Rd\, Woodford\, VT\, 05346\, United States
CATEGORIES:NENSA BKL Race,SOVT Race
END:VEVENT
BEGIN:VEVENT
DTSTART;VALUE=DATE:20240127
DTEND;VALUE=DATE:20240128
DTSTAMP:20260423T115039
CREATED:20231201T034836Z
LAST-MODIFIED:20240117T012158Z
UID:1009-1706313600-1706399999@putneyskiclub.org
SUMMARY:Stratton Terrain Challenge
DESCRIPTION:
URL:http://putneyskiclub.org/event/stratton-terrain-challenge-2
LOCATION:Stratton Nordic Center\, 41 Sun Bowl Road\, Stratton\, VT\, 05360\, United States
END:VEVENT
BEGIN:VEVENT
DTSTART;VALUE=DATE:20240120
DTEND;VALUE=DATE:20240121
DTSTAMP:20260423T115039
CREATED:20231201T034635Z
LAST-MODIFIED:20240117T011946Z
UID:1006-1705708800-1705795199@putneyskiclub.org
SUMMARY:Viking Night
DESCRIPTION:
URL:http://putneyskiclub.org/event/viking-night-2
LOCATION:Viking Nordic Ski Center\, 615 Little Pond Rd\, Londonderry\, VT\, 05148\, United States
ATTACH;FMTTYPE=image/jpeg:http://putneyskiclub.org/wp-content/uploads/2023/12/7F236A31-D7B5-40D4-AB5E-343A8A6C975A_1_105_c-e1701402386199.jpeg
END:VEVENT
END:VCALENDAR