BEGIN:VCALENDAR
VERSION:2.0
PRODID:-//Putney Ski Club - ECPv6.15.20//NONSGML v1.0//EN
CALSCALE:GREGORIAN
METHOD:PUBLISH
X-WR-CALNAME:Putney Ski Club
X-ORIGINAL-URL:http://putneyskiclub.org
X-WR-CALDESC:Events for Putney Ski Club
REFRESH-INTERVAL;VALUE=DURATION:PT1H
X-Robots-Tag:noindex
X-PUBLISHED-TTL:PT1H
BEGIN:VTIMEZONE
TZID:UTC
BEGIN:STANDARD
TZOFFSETFROM:+0000
TZOFFSETTO:+0000
TZNAME:UTC
DTSTART:20230101T000000
END:STANDARD
END:VTIMEZONE
BEGIN:VEVENT
DTSTART;TZID=UTC:20241102T083000
DTEND;TZID=UTC:20241102T120000
DTSTAMP:20260424T110836
CREATED:20240919T035141Z
LAST-MODIFIED:20240922T142557Z
UID:1121-1730536200-1730548800@putneyskiclub.org
SUMMARY:SMS T2 Bounding practice
DESCRIPTION:Open bounding practice with the SMS T2 team. SMS T2 is a professional XC ski team based in Stratton\, VT.
URL:http://putneyskiclub.org/event/sms-t2-bounding-practice-3
LOCATION:Stratton Mountain\, 5 Village Lodge Rd\, Stratton Mountain\, VT\, 05155\, United States
ATTACH;FMTTYPE=image/jpeg:http://putneyskiclub.org/wp-content/uploads/2024/09/IMG_8697-_1_.jpeg
END:VEVENT
BEGIN:VEVENT
DTSTART;TZID=UTC:20241103T080000
DTEND;TZID=UTC:20241103T170000
DTSTAMP:20260424T110836
CREATED:20240919T034035Z
LAST-MODIFIED:20240919T035458Z
UID:1111-1730620800-1730653200@putneyskiclub.org
SUMMARY:West Hill Shop Cyclocross Race
DESCRIPTION:Cyclocross Race at WEST HILL SHOP!!!
URL:http://putneyskiclub.org/event/west-hill-shop-cyclocross-race
LOCATION:West Hill Shop\, 49 Brickyard Ln\, Putney\, VT\, 05346\, United States
ATTACH;FMTTYPE=image/jpeg:http://putneyskiclub.org/wp-content/uploads/2022/10/WHSSquarePlain139.jpeg
END:VEVENT
BEGIN:VEVENT
DTSTART;VALUE=DATE:20241110
DTEND;VALUE=DATE:20241111
DTSTAMP:20260424T110836
CREATED:20240919T040834Z
LAST-MODIFIED:20240919T040842Z
UID:1124-1731196800-1731283199@putneyskiclub.org
SUMMARY:BKL Parent leaders and Coaches Education
DESCRIPTION:Great opportunity to learn more about the BKL philosophy and get some great coaching ideas!
URL:http://putneyskiclub.org/event/bkl-parent-leaders-and-coaches-education
LOCATION:Holderness School\, 33 Chapel Lane\, Holderness\, NH\, 03245\, United States
END:VEVENT
BEGIN:VEVENT
DTSTART;TZID=UTC:20241116T100000
DTEND;TZID=UTC:20241116T113000
DTSTAMP:20260424T110836
CREATED:20240922T134139Z
LAST-MODIFIED:20241101T035602Z
UID:1169-1731751200-1731756600@putneyskiclub.org
SUMMARY:Ski and Skate Sale
DESCRIPTION:Every Fall\, the ski club holds a sale for used ski and snow-sports equipment. More details here: http://putneyskiclub.org/skiskatesale
URL:http://putneyskiclub.org/event/ski-and-skate-sale
LOCATION:West Hill Shop\, 49 Brickyard Ln\, Putney\, VT\, 05346\, United States
END:VEVENT
BEGIN:VEVENT
DTSTART;TZID=UTC:20241120T160000
DTEND;TZID=UTC:20241120T180000
DTSTAMP:20260424T110836
CREATED:20240922T132703Z
LAST-MODIFIED:20240922T132703Z
UID:1163-1732118400-1732125600@putneyskiclub.org
SUMMARY:Putney BKL Registration/Ski rental night
DESCRIPTION:Come to West Hill Shop to sign up for the season and get your rental skis.
URL:http://putneyskiclub.org/event/putney-bkl-registration-ski-rental-night
LOCATION:West Hill Shop\, 49 Brickyard Ln\, Putney\, VT\, 05346\, United States
END:VEVENT
END:VCALENDAR