BEGIN:VCALENDAR
VERSION:2.0
PRODID:-//Putney Ski Club - ECPv6.15.20//NONSGML v1.0//EN
CALSCALE:GREGORIAN
METHOD:PUBLISH
X-WR-CALNAME:Putney Ski Club
X-ORIGINAL-URL:http://putneyskiclub.org
X-WR-CALDESC:Events for Putney Ski Club
REFRESH-INTERVAL;VALUE=DURATION:PT1H
X-Robots-Tag:noindex
X-PUBLISHED-TTL:PT1H
BEGIN:VTIMEZONE
TZID:UTC
BEGIN:STANDARD
TZOFFSETFROM:+0000
TZOFFSETTO:+0000
TZNAME:UTC
DTSTART:20230101T000000
END:STANDARD
END:VTIMEZONE
BEGIN:VEVENT
DTSTART;VALUE=DATE:20241208
DTEND;VALUE=DATE:20241209
DTSTAMP:20260422T160728
CREATED:20241103T013758Z
LAST-MODIFIED:20241103T015450Z
UID:1256-1733616000-1733702399@putneyskiclub.org
SUMMARY:Kendall Memorial Classic
DESCRIPTION:
URL:http://putneyskiclub.org/event/kendall-memorial-classic
LOCATION:Craftsbury Outdoor Center\, http://www.craftsbury.com\, 535 Lost Nation Rd\, VT\, 05827\, United States
CATEGORIES:Popular race
END:VEVENT
BEGIN:VEVENT
DTSTART;TZID=UTC:20241211T153000
DTEND;TZID=UTC:20241211T170000
DTSTAMP:20260422T160728
CREATED:20240924T005649Z
LAST-MODIFIED:20240924T005649Z
UID:1219-1733931000-1733936400@putneyskiclub.org
SUMMARY:First day of practice
DESCRIPTION:We’ll be out on the trails on skis or in sneakers/hiking boots\, depending on the weather!
URL:http://putneyskiclub.org/event/first-day-of-practice
END:VEVENT
END:VCALENDAR