BEGIN:VCALENDAR
VERSION:2.0
PRODID:-//Putney Ski Club - ECPv6.15.20//NONSGML v1.0//EN
CALSCALE:GREGORIAN
METHOD:PUBLISH
X-WR-CALNAME:Putney Ski Club
X-ORIGINAL-URL:http://putneyskiclub.org
X-WR-CALDESC:Events for Putney Ski Club
REFRESH-INTERVAL;VALUE=DURATION:PT1H
X-Robots-Tag:noindex
X-PUBLISHED-TTL:PT1H
BEGIN:VTIMEZONE
TZID:UTC
BEGIN:STANDARD
TZOFFSETFROM:+0000
TZOFFSETTO:+0000
TZNAME:UTC
DTSTART:20240101T000000
END:STANDARD
END:VTIMEZONE
BEGIN:VEVENT
DTSTART;VALUE=DATE:20250301
DTEND;VALUE=DATE:20250303
DTSTAMP:20260422T105954
CREATED:20240922T134447Z
LAST-MODIFIED:20241103T015126Z
UID:1171-1740787200-1740959999@putneyskiclub.org
SUMMARY:2025 BKL Festival
DESCRIPTION:The New England Bill Koch Youth Ski League (NEBKYSL) Festival is the marquee event of the New England Nordic Ski Association Bill Koch Youth Ski League. This fun youth festival will feature racing\, as well as a wide range of non-competitive winter activities. Skiers of all ability levels from kindergarten up to 8th grade are welcome!
URL:http://putneyskiclub.org/event/2025-bkl-festival
LOCATION:Quarry Road Trails\, 300 Quarry Road\, Waterville\, ME\, 04901\, United States
CATEGORIES:NENSA BKL Race
ATTACH;FMTTYPE=image/jpeg:http://putneyskiclub.org/wp-content/uploads/2023/11/DCDB7797-3549-4AAE-A6A5-7F0D403998F8_1_105_c.jpeg
END:VEVENT
END:VCALENDAR